Package: HybridMTest Version: 1.53.0 Command: /home/biocbuild/bbs-3.22-bioc/R/bin/R CMD INSTALL HybridMTest StartedAt: 2025-10-27 15:15:41 -0400 (Mon, 27 Oct 2025) EndedAt: 2025-10-27 15:15:49 -0400 (Mon, 27 Oct 2025) EllapsedTime: 7.6 seconds RetCode: 0 Status: OK