Package: HybridExpress Version: 1.5.0 Command: /home/biocbuild/bbs-3.22-bioc/R/bin/R CMD INSTALL HybridExpress StartedAt: 2025-10-24 15:32:26 -0400 (Fri, 24 Oct 2025) EndedAt: 2025-10-24 15:32:51 -0400 (Fri, 24 Oct 2025) EllapsedTime: 25.4 seconds RetCode: 0 Status: OK