Package: HybridExpress Version: 1.5.0 Command: /home/biocbuild/bbs-3.22-bioc/R/bin/R CMD build --keep-empty-dirs --no-resave-data --md5 HybridExpress StartedAt: 2025-10-24 18:19:42 -0400 (Fri, 24 Oct 2025) EndedAt: 2025-10-24 18:21:01 -0400 (Fri, 24 Oct 2025) EllapsedTime: 79.1 seconds RetCode: 0 Status: OK PackageFile: HybridExpress_1.5.0.tar.gz PackageFileSize: 3.267 MiB