Package: HubPub Version: 1.17.1 Command: /home/biocbuild/bbs-3.22-bioc/R/bin/R CMD INSTALL HubPub StartedAt: 2025-10-27 15:13:59 -0400 (Mon, 27 Oct 2025) EndedAt: 2025-10-27 15:14:02 -0400 (Mon, 27 Oct 2025) EllapsedTime: 3.4 seconds RetCode: 0 Status: OK