Package: HubPub Version: 1.17.1 Command: /home/biocbuild/bbs-3.22-bioc/R/bin/R CMD build --keep-empty-dirs --no-resave-data --md5 HubPub StartedAt: 2025-10-24 18:19:23 -0400 (Fri, 24 Oct 2025) EndedAt: 2025-10-24 18:19:59 -0400 (Fri, 24 Oct 2025) EllapsedTime: 36.0 seconds RetCode: 0 Status: OK PackageFile: HubPub_1.17.1.tar.gz PackageFileSize: 550.4 KiB