Package: HilbertVisGUI Version: 1.67.1 Command: /home/biocbuild/R/R/bin/R CMD INSTALL HilbertVisGUI StartedAt: 2025-10-23 20:18:22 -0000 (Thu, 23 Oct 2025) EndedAt: 2025-10-23 20:19:02 -0000 (Thu, 23 Oct 2025) EllapsedTime: 39.5 seconds RetCode: 0 Status: OK