Package: HilbertVisGUI Version: 1.67.1 Command: /home/biocbuild/R/R/bin/R CMD build --keep-empty-dirs --no-resave-data HilbertVisGUI StartedAt: 2025-10-21 00:30:02 -0000 (Tue, 21 Oct 2025) EndedAt: 2025-10-21 00:30:34 -0000 (Tue, 21 Oct 2025) EllapsedTime: 32.0 seconds RetCode: 0 Status: OK PackageFile: HilbertVisGUI_1.67.1.tar.gz PackageFileSize: 142.7 KiB