Package: HilbertVisGUI Version: 1.67.1 Command: /home/biocbuild/bbs-3.22-bioc/R/bin/R CMD INSTALL HilbertVisGUI StartedAt: 2025-10-24 15:13:46 -0400 (Fri, 24 Oct 2025) EndedAt: 2025-10-24 15:14:21 -0400 (Fri, 24 Oct 2025) EllapsedTime: 35.4 seconds RetCode: 0 Status: OK