Package: HilbertCurve Version: 2.3.0 Command: /home/biocbuild/bbs-3.22-bioc/R/bin/R CMD INSTALL HilbertCurve StartedAt: 2025-10-24 15:27:38 -0400 (Fri, 24 Oct 2025) EndedAt: 2025-10-24 15:28:00 -0400 (Fri, 24 Oct 2025) EllapsedTime: 22.0 seconds RetCode: 0 Status: OK