Package: HilbertCurve Version: 2.3.0 Command: /home/biocbuild/bbs-3.22-bioc/R/bin/R CMD build --keep-empty-dirs --no-resave-data --md5 HilbertCurve StartedAt: 2025-10-24 18:17:28 -0400 (Fri, 24 Oct 2025) EndedAt: 2025-10-24 18:17:55 -0400 (Fri, 24 Oct 2025) EllapsedTime: 27.0 seconds RetCode: 0 Status: OK PackageFile: HilbertCurve_2.3.0.tar.gz PackageFileSize: 409.3 KiB