Package: HicAggR Version: 1.5.1 Command: /home/biocbuild/bbs-3.22-bioc/R/bin/R CMD INSTALL HicAggR StartedAt: 2025-10-24 15:40:04 -0400 (Fri, 24 Oct 2025) EndedAt: 2025-10-24 15:40:32 -0400 (Fri, 24 Oct 2025) EllapsedTime: 28.4 seconds RetCode: 0 Status: OK