Package: HicAggR Version: 1.5.1 Command: /home/biocbuild/bbs-3.22-bioc/R/bin/R CMD build --keep-empty-dirs --no-resave-data --md5 HicAggR StartedAt: 2025-10-24 18:14:45 -0400 (Fri, 24 Oct 2025) EndedAt: 2025-10-24 18:20:15 -0400 (Fri, 24 Oct 2025) EllapsedTime: 330.3 seconds RetCode: 0 Status: OK PackageFile: HicAggR_1.5.1.tar.gz PackageFileSize: 3.162 MiB