Package: HicAggR Version: 1.6.0 Command: /Library/Frameworks/R.framework/Resources/bin/R CMD build --keep-empty-dirs --no-resave-data HicAggR StartedAt: 2025-10-31 16:44:33 -0400 (Fri, 31 Oct 2025) EndedAt: 2025-10-31 16:46:34 -0400 (Fri, 31 Oct 2025) EllapsedTime: 121.3 seconds RetCode: 0 Status: OK PackageFile: HicAggR_1.6.0.tar.gz PackageFileSize: 3.331 MiB