Package: HiLDA Version: 1.24.0 Command: /home/biocbuild/bbs-3.22-bioc/R/bin/R CMD check --install=check:HiLDA.install-out.txt --library=/home/biocbuild/bbs-3.22-bioc/R/site-library --timings HiLDA_1.24.0.tar.gz StartedAt: 2025-11-01 00:38:17 -0400 (Sat, 01 Nov 2025) EndedAt: 2025-11-01 00:45:33 -0400 (Sat, 01 Nov 2025) EllapsedTime: 436.5 seconds RetCode: 0 Status: OK CheckDir: HiLDA.Rcheck Warnings: 0