Package: HiLDA Version: 1.23.0 Command: /Library/Frameworks/R.framework/Resources/bin/R CMD INSTALL HiLDA StartedAt: 2025-10-24 15:58:49 -0400 (Fri, 24 Oct 2025) EndedAt: 2025-10-24 15:59:11 -0400 (Fri, 24 Oct 2025) EllapsedTime: 21.7 seconds RetCode: 0 Status: OK