Package: HiLDA Version: 1.23.0 Command: /Library/Frameworks/R.framework/Resources/bin/R CMD build --keep-empty-dirs --no-resave-data HiLDA StartedAt: 2025-10-24 17:25:57 -0400 (Fri, 24 Oct 2025) EndedAt: 2025-10-24 17:31:03 -0400 (Fri, 24 Oct 2025) EllapsedTime: 306.7 seconds RetCode: 0 Status: OK PackageFile: HiLDA_1.23.0.tar.gz PackageFileSize: 2.462 MiB