Package: HiLDA Version: 1.23.0 Command: rm -rf HiLDA.buildbin-libdir && mkdir HiLDA.buildbin-libdir && /Users/biocbuild/BBS/utils/build-universal.sh HiLDA_1.23.0.tar.gz /Library/Frameworks/R.framework/Resources/bin/R HiLDA.buildbin-libdir StartedAt: 2025-10-25 01:44:45 -0400 (Sat, 25 Oct 2025) EndedAt: 2025-10-25 01:45:13 -0400 (Sat, 25 Oct 2025) EllapsedTime: 27.7 seconds RetCode: 0 Status: OK PackageFile: HiLDA_1.23.0.tgz PackageFileSize: 2.608 MiB