Package: HiLDA Version: 1.23.0 Command: /Library/Frameworks/R.framework/Resources/bin/R CMD INSTALL HiLDA StartedAt: 2025-10-27 15:32:02 -0400 (Mon, 27 Oct 2025) EndedAt: 2025-10-27 15:32:08 -0400 (Mon, 27 Oct 2025) EllapsedTime: 6.2 seconds RetCode: 0 Status: OK