Package: HiContacts Version: 1.12.0 Command: /Library/Frameworks/R.framework/Resources/bin/R CMD build --keep-empty-dirs --no-resave-data HiContacts StartedAt: 2025-11-03 17:21:16 -0500 (Mon, 03 Nov 2025) EndedAt: 2025-11-03 17:28:47 -0500 (Mon, 03 Nov 2025) EllapsedTime: 451.2 seconds RetCode: 0 Status: OK PackageFile: HiContacts_1.12.0.tar.gz PackageFileSize: 5.376 MiB