Package: HiContacts Version: 1.12.0 Command: rm -rf HiContacts.buildbin-libdir && mkdir HiContacts.buildbin-libdir && /Users/biocbuild/BBS/utils/build-universal.sh HiContacts_1.12.0.tar.gz /Library/Frameworks/R.framework/Resources/bin/R HiContacts.buildbin-libdir StartedAt: 2025-11-04 01:44:37 -0500 (Tue, 04 Nov 2025) EndedAt: 2025-11-04 01:45:20 -0500 (Tue, 04 Nov 2025) EllapsedTime: 42.8 seconds RetCode: 0 Status: OK PackageFile: HiContacts_1.12.0.tgz PackageFileSize: 5.532 MiB