Package: HiCcompare Version: 1.32.0 Command: /Library/Frameworks/R.framework/Resources/bin/R CMD INSTALL HiCcompare StartedAt: 2025-10-30 15:26:09 -0400 (Thu, 30 Oct 2025) EndedAt: 2025-10-30 15:26:56 -0400 (Thu, 30 Oct 2025) EllapsedTime: 47.0 seconds RetCode: 0 Status: OK