Package: HiCcompare Version: 1.32.0 Command: /Library/Frameworks/R.framework/Resources/bin/R CMD build --keep-empty-dirs --no-resave-data HiCcompare StartedAt: 2025-10-29 23:59:36 -0400 (Wed, 29 Oct 2025) EndedAt: 2025-10-30 00:00:44 -0400 (Thu, 30 Oct 2025) EllapsedTime: 67.5 seconds RetCode: 0 Status: OK PackageFile: HiCcompare_1.32.0.tar.gz PackageFileSize: 3.681 MiB