Package: HiCcompare Version: 1.32.0 Command: rm -rf HiCcompare.buildbin-libdir && mkdir HiCcompare.buildbin-libdir && /Users/biocbuild/BBS/utils/build-universal.sh HiCcompare_1.32.0.tar.gz /Library/Frameworks/R.framework/Resources/bin/R HiCcompare.buildbin-libdir StartedAt: 2025-10-30 08:20:15 -0400 (Thu, 30 Oct 2025) EndedAt: 2025-10-30 08:21:07 -0400 (Thu, 30 Oct 2025) EllapsedTime: 51.3 seconds RetCode: 0 Status: OK PackageFile: HiCcompare_1.32.0.tgz PackageFileSize: 3.807 MiB