Package: HiCcompare Version: 1.32.0 Maintainer: Mikhail Dozmorov MaintainerEmail: mikhail.dozmorov at gmail.com git_url: https://git.bioconductor.org/packages/HiCcompare git_branch: RELEASE_3_22 git_last_commit: 9add140 git_last_commit_date: 2025-10-29 10:39:45 -0500 (Wed, 29 Oct 2025)