Package: HiCaptuRe Version: 0.99.15 Command: /home/biocbuild/bbs-3.22-bioc/R/bin/R CMD INSTALL HiCaptuRe StartedAt: 2025-10-24 16:02:14 -0400 (Fri, 24 Oct 2025) EndedAt: 2025-10-24 16:03:08 -0400 (Fri, 24 Oct 2025) EllapsedTime: 54.3 seconds RetCode: 0 Status: OK