Package: HiCaptuRe Version: 0.99.15 Command: /home/biocbuild/bbs-3.22-bioc/R/bin/R CMD build --keep-empty-dirs --no-resave-data --md5 HiCaptuRe StartedAt: 2025-10-24 18:14:57 -0400 (Fri, 24 Oct 2025) EndedAt: 2025-10-24 18:17:32 -0400 (Fri, 24 Oct 2025) EllapsedTime: 155.1 seconds RetCode: 0 Status: OK PackageFile: HiCaptuRe_0.99.15.tar.gz PackageFileSize: 1.926 MiB