Package: HiCPotts Version: 0.99.6 Command: /home/biocbuild/bbs-3.22-bioc/R/bin/R CMD INSTALL HiCPotts StartedAt: 2025-10-24 15:38:55 -0400 (Fri, 24 Oct 2025) EndedAt: 2025-10-24 15:39:52 -0400 (Fri, 24 Oct 2025) EllapsedTime: 57.8 seconds RetCode: 0 Status: OK