Package: HiCParser Version: 1.2.0 Command: /home/biocbuild/bbs-3.22-bioc/R/bin/R CMD check --install=check:HiCParser.install-out.txt --library=/home/biocbuild/bbs-3.22-bioc/R/site-library --timings HiCParser_1.2.0.tar.gz StartedAt: 2025-11-03 00:46:21 -0500 (Mon, 03 Nov 2025) EndedAt: 2025-11-03 00:49:24 -0500 (Mon, 03 Nov 2025) EllapsedTime: 183.2 seconds RetCode: 0 Status: OK CheckDir: HiCParser.Rcheck Warnings: 0