Package: HiCParser Version: 1.1.1 Command: /Library/Frameworks/R.framework/Resources/bin/R CMD INSTALL HiCParser StartedAt: 2025-10-27 15:22:32 -0400 (Mon, 27 Oct 2025) EndedAt: 2025-10-27 15:23:11 -0400 (Mon, 27 Oct 2025) EllapsedTime: 39.2 seconds RetCode: 0 Status: OK