Package: HiCParser Version: 1.1.1 Command: /Library/Frameworks/R.framework/Resources/bin/R CMD build --keep-empty-dirs --no-resave-data HiCParser StartedAt: 2025-10-24 17:25:01 -0400 (Fri, 24 Oct 2025) EndedAt: 2025-10-24 17:25:59 -0400 (Fri, 24 Oct 2025) EllapsedTime: 58.2 seconds RetCode: 0 Status: OK PackageFile: HiCParser_1.1.1.tar.gz PackageFileSize: 324.3 KiB