Package: HiCParser Version: 1.1.1 Command: /Library/Frameworks/R.framework/Resources/bin/R CMD INSTALL HiCParser StartedAt: 2025-10-24 15:17:17 -0400 (Fri, 24 Oct 2025) EndedAt: 2025-10-24 15:17:28 -0400 (Fri, 24 Oct 2025) EllapsedTime: 11.1 seconds RetCode: 0 Status: OK