Package: HiCParser Version: 1.1.1 Command: rm -rf HiCParser.buildbin-libdir && mkdir HiCParser.buildbin-libdir && /Users/biocbuild/BBS/utils/build-universal.sh HiCParser_1.1.1.tar.gz /Library/Frameworks/R.framework/Resources/bin/R HiCParser.buildbin-libdir StartedAt: 2025-10-24 23:06:01 -0400 (Fri, 24 Oct 2025) EndedAt: 2025-10-24 23:06:13 -0400 (Fri, 24 Oct 2025) EllapsedTime: 12.2 seconds RetCode: 0 Status: OK PackageFile: HiCParser_1.1.1.tgz PackageFileSize: 398.1 KiB