Package: HiCParser Version: 1.2.0 Maintainer: Maigné Élise MaintainerEmail: elise.maigne at inrae.fr git_url: https://git.bioconductor.org/packages/HiCParser git_branch: RELEASE_3_22 git_last_commit: c089341 git_last_commit_date: 2025-10-29 11:34:37 -0400 (Wed, 29 Oct 2025)