Package: HiCExperiment Version: 1.9.2 Command: /home/biocbuild/bbs-3.22-bioc/R/bin/R CMD INSTALL HiCExperiment StartedAt: 2025-10-24 15:35:30 -0400 (Fri, 24 Oct 2025) EndedAt: 2025-10-24 15:36:00 -0400 (Fri, 24 Oct 2025) EllapsedTime: 29.6 seconds RetCode: 0 Status: OK