Package: HiCExperiment Version: 1.9.2 Command: /home/biocbuild/bbs-3.22-bioc/R/bin/R CMD build --keep-empty-dirs --no-resave-data --md5 HiCExperiment StartedAt: 2025-10-24 18:15:23 -0400 (Fri, 24 Oct 2025) EndedAt: 2025-10-24 18:18:44 -0400 (Fri, 24 Oct 2025) EllapsedTime: 201.1 seconds RetCode: 0 Status: OK PackageFile: HiCExperiment_1.9.2.tar.gz PackageFileSize: 1014 KiB