Package: HiCExperiment Version: 1.10.0 Command: /Library/Frameworks/R.framework/Resources/bin/R CMD build --keep-empty-dirs --no-resave-data HiCExperiment StartedAt: 2025-11-10 16:41:34 -0500 (Mon, 10 Nov 2025) EndedAt: 2025-11-10 16:42:49 -0500 (Mon, 10 Nov 2025) EllapsedTime: 74.8 seconds RetCode: 0 Status: OK PackageFile: HiCExperiment_1.10.0.tar.gz PackageFileSize: 1011 KiB