Package: HiCDOC Version: 1.11.2 Command: /home/biocbuild/bbs-3.22-bioc/R/bin/R CMD INSTALL HiCDOC StartedAt: 2025-10-24 15:42:51 -0400 (Fri, 24 Oct 2025) EndedAt: 2025-10-24 15:43:33 -0400 (Fri, 24 Oct 2025) EllapsedTime: 42.6 seconds RetCode: 0 Status: OK