Package: HiCDOC Version: 1.12.0 Command: /Library/Frameworks/R.framework/Resources/bin/R CMD INSTALL HiCDOC StartedAt: 2025-10-31 15:21:58 -0400 (Fri, 31 Oct 2025) EndedAt: 2025-10-31 15:22:14 -0400 (Fri, 31 Oct 2025) EllapsedTime: 15.6 seconds RetCode: 0 Status: OK