Package: HiCDCPlus Version: 1.17.0 Command: /Library/Frameworks/R.framework/Resources/bin/R CMD INSTALL HiCDCPlus StartedAt: 2025-10-24 15:58:45 -0400 (Fri, 24 Oct 2025) EndedAt: 2025-10-24 15:59:41 -0400 (Fri, 24 Oct 2025) EllapsedTime: 55.8 seconds RetCode: 0 Status: OK