Package: HiCDCPlus Version: 1.17.0 Command: /Library/Frameworks/R.framework/Resources/bin/R CMD build --keep-empty-dirs --no-resave-data HiCDCPlus StartedAt: 2025-10-24 17:24:39 -0400 (Fri, 24 Oct 2025) EndedAt: 2025-10-24 17:27:05 -0400 (Fri, 24 Oct 2025) EllapsedTime: 146.0 seconds RetCode: 0 Status: OK PackageFile: HiCDCPlus_1.17.0.tar.gz PackageFileSize: 1.189 MiB