Package: HiCDCPlus Version: 1.17.0 Command: /Library/Frameworks/R.framework/Resources/bin/R CMD INSTALL HiCDCPlus StartedAt: 2025-10-24 15:30:47 -0400 (Fri, 24 Oct 2025) EndedAt: 2025-10-24 15:31:04 -0400 (Fri, 24 Oct 2025) EllapsedTime: 17.1 seconds RetCode: 0 Status: OK