Package: HiCBricks Version: 1.27.1 Command: /home/biocbuild/bbs-3.22-bioc/R/bin/R CMD INSTALL HiCBricks StartedAt: 2025-10-27 15:18:27 -0400 (Mon, 27 Oct 2025) EndedAt: 2025-10-27 15:18:43 -0400 (Mon, 27 Oct 2025) EllapsedTime: 15.9 seconds RetCode: 0 Status: OK