Package: HiCBricks Version: 1.27.1 Command: /home/biocbuild/bbs-3.22-bioc/R/bin/R CMD build --keep-empty-dirs --no-resave-data --md5 HiCBricks StartedAt: 2025-10-27 18:06:07 -0400 (Mon, 27 Oct 2025) EndedAt: 2025-10-27 18:07:18 -0400 (Mon, 27 Oct 2025) EllapsedTime: 71.1 seconds RetCode: 0 Status: OK PackageFile: HiCBricks_1.27.1.tar.gz PackageFileSize: 5.136 MiB