Package: HiCBricks Version: 1.28.0 Command: rm -rf HiCBricks.buildbin-libdir && mkdir HiCBricks.buildbin-libdir && /Users/biocbuild/BBS/utils/build-universal.sh HiCBricks_1.28.0.tar.gz /Library/Frameworks/R.framework/Resources/bin/R HiCBricks.buildbin-libdir StartedAt: 2025-10-31 23:10:01 -0400 (Fri, 31 Oct 2025) EndedAt: 2025-10-31 23:10:10 -0400 (Fri, 31 Oct 2025) EllapsedTime: 8.2 seconds RetCode: 0 Status: OK PackageFile: HiCBricks_1.28.0.tgz PackageFileSize: 9.096 MiB