Package: Herper Version: 1.19.3 Command: /home/biocbuild/bbs-3.22-bioc/R/bin/R CMD INSTALL Herper StartedAt: 2025-10-24 15:21:46 -0400 (Fri, 24 Oct 2025) EndedAt: 2025-10-24 15:21:52 -0400 (Fri, 24 Oct 2025) EllapsedTime: 5.7 seconds RetCode: 0 Status: OK