Package: Herper Version: 1.19.3 Command: /home/biocbuild/bbs-3.22-bioc/R/bin/R CMD build --keep-empty-dirs --no-resave-data --md5 Herper StartedAt: 2025-10-24 18:14:09 -0400 (Fri, 24 Oct 2025) EndedAt: 2025-10-24 18:14:21 -0400 (Fri, 24 Oct 2025) EllapsedTime: 12.0 seconds RetCode: 0 Status: OK PackageFile: Herper_1.19.3.tar.gz PackageFileSize: 410.2 KiB