Package: HelloRanges Version: 1.35.2 Command: /home/biocbuild/bbs-3.22-bioc/R/bin/R CMD INSTALL HelloRanges StartedAt: 2025-10-24 15:51:17 -0400 (Fri, 24 Oct 2025) EndedAt: 2025-10-24 15:51:57 -0400 (Fri, 24 Oct 2025) EllapsedTime: 40.4 seconds RetCode: 0 Status: OK