Package: HelloRanges Version: 1.35.2 Command: /home/biocbuild/bbs-3.22-bioc/R/bin/R CMD check --install=check:HelloRanges.install-out.txt --library=/home/biocbuild/bbs-3.22-bioc/R/site-library --timings HelloRanges_1.35.2.tar.gz StartedAt: 2025-10-25 00:28:25 -0400 (Sat, 25 Oct 2025) EndedAt: 2025-10-25 00:36:38 -0400 (Sat, 25 Oct 2025) EllapsedTime: 493.5 seconds RetCode: 0 Status: OK CheckDir: HelloRanges.Rcheck Warnings: 0