Package: HelloRanges Version: 1.35.2 Command: /home/biocbuild/bbs-3.22-bioc/R/bin/R CMD build --keep-empty-dirs --no-resave-data --md5 HelloRanges StartedAt: 2025-10-24 18:13:44 -0400 (Fri, 24 Oct 2025) EndedAt: 2025-10-24 18:17:52 -0400 (Fri, 24 Oct 2025) EllapsedTime: 248.2 seconds RetCode: 0 Status: OK PackageFile: HelloRanges_1.35.2.tar.gz PackageFileSize: 955.6 KiB