Package: HelloRanges Version: 1.35.2 Command: /Library/Frameworks/R.framework/Resources/bin/R CMD INSTALL HelloRanges StartedAt: 2025-10-24 15:44:58 -0400 (Fri, 24 Oct 2025) EndedAt: 2025-10-24 15:45:54 -0400 (Fri, 24 Oct 2025) EllapsedTime: 56.3 seconds RetCode: 0 Status: OK